BEGIN:VCALENDAR
VERSION:2.0
PRODID:-//EBM International - ECPv6.15.20//NONSGML v1.0//EN
CALSCALE:GREGORIAN
METHOD:PUBLISH
X-WR-CALNAME:EBM International
X-ORIGINAL-URL:https://ebminternational.com
X-WR-CALDESC:Events for EBM International
REFRESH-INTERVAL;VALUE=DURATION:PT1H
X-Robots-Tag:noindex
X-PUBLISHED-TTL:PT1H
BEGIN:VTIMEZONE
TZID:America/New_York
BEGIN:DAYLIGHT
TZOFFSETFROM:-0500
TZOFFSETTO:-0400
TZNAME:EDT
DTSTART:20220313T070000
END:DAYLIGHT
BEGIN:STANDARD
TZOFFSETFROM:-0400
TZOFFSETTO:-0500
TZNAME:EST
DTSTART:20221106T060000
END:STANDARD
BEGIN:DAYLIGHT
TZOFFSETFROM:-0500
TZOFFSETTO:-0400
TZNAME:EDT
DTSTART:20230312T070000
END:DAYLIGHT
BEGIN:STANDARD
TZOFFSETFROM:-0400
TZOFFSETTO:-0500
TZNAME:EST
DTSTART:20231105T060000
END:STANDARD
BEGIN:DAYLIGHT
TZOFFSETFROM:-0500
TZOFFSETTO:-0400
TZNAME:EDT
DTSTART:20240310T070000
END:DAYLIGHT
BEGIN:STANDARD
TZOFFSETFROM:-0400
TZOFFSETTO:-0500
TZNAME:EST
DTSTART:20241103T060000
END:STANDARD
END:VTIMEZONE
BEGIN:VEVENT
DTSTART;TZID=America/New_York:20231001T104500
DTEND;TZID=America/New_York:20231001T120000
DTSTAMP:20260421T170452
CREATED:20230621T204743Z
LAST-MODIFIED:20230928T232158Z
UID:4367-1696157100-1696161600@ebminternational.com
SUMMARY:New Beginning Community Church Traditional Service
DESCRIPTION:
URL:https://ebminternational.com/event/open-door-community-church-traditional-service/
LOCATION:New Beginning Community Church\, 5200 SE 145th St\, Summerfield\, FL\, 34491\, United States
CATEGORIES:Services
ATTACH;FMTTYPE=image/jpeg:https://ebminternational.com/wp-content/uploads/2019/08/ixlibrb-0.3.5q80fmjpgcropentropycstinysrgbw400h400fitcropsbc90d48f634f8d788de646e840139d22.jpg
END:VEVENT
BEGIN:VEVENT
DTSTART;TZID=America/New_York:20231001T090000
DTEND;TZID=America/New_York:20231001T101500
DTSTAMP:20260421T170452
CREATED:20230617T170449Z
LAST-MODIFIED:20230928T232120Z
UID:4339-1696150800-1696155300@ebminternational.com
SUMMARY:New Beginning Community Church Contemporary Service
DESCRIPTION:
URL:https://ebminternational.com/event/open-door-community-church-sunday-service/
LOCATION:New Beginning Community Church\, 5200 SE 145th St\, Summerfield\, FL\, 34491\, United States
CATEGORIES:Services
ATTACH;FMTTYPE=image/jpeg:https://ebminternational.com/wp-content/uploads/2019/08/ixlibrb-0.3.5q80fmjpgcropentropycstinysrgbw400h400fitcrops6cafe11a7ffa39ec18b30f5b068889c0.jpg
END:VEVENT
END:VCALENDAR